BEGIN:VCALENDAR
VERSION:2.0
PRODID:icalendar-ruby
CALSCALE:GREGORIAN
METHOD:PUBLISH
BEGIN:VEVENT
DTSTAMP:20260426T025535Z
UID:11-261835@ascensionmarion.com
DTSTART:20261004T140000Z
DTEND:20261004T150000Z
CLASS:PUBLIC
CREATED:20260425T205236
DESCRIPTION:
LAST-MODIFIED:20260425T205236
LOCATION:
SUMMARY:Holy Communion
URL;VALUE=URI:https://www.ascensionmarion.com/events/holy-communion/2026-10
 -04
END:VEVENT
END:VCALENDAR
