BEGIN:VCALENDAR
VERSION:2.0
PRODID:icalendar-ruby
CALSCALE:GREGORIAN
METHOD:PUBLISH
BEGIN:VEVENT
DTSTAMP:20260426T011609Z
UID:11-261834@ascensionmarion.com
DTSTART:20260927T140000Z
DTEND:20260927T150000Z
CLASS:PUBLIC
CREATED:20260425T205236
DESCRIPTION:
LAST-MODIFIED:20260425T205236
LOCATION:
SUMMARY:Holy Communion
URL;VALUE=URI:https://www.ascensionmarion.com/events/holy-communion/2026-09
 -27
END:VEVENT
END:VCALENDAR
